BEGIN:VCALENDAR
VERSION:2.0
PRODID:-//Steve Goodie - ECPv6.15.20//NONSGML v1.0//EN
CALSCALE:GREGORIAN
METHOD:PUBLISH
X-WR-CALNAME:Steve Goodie
X-ORIGINAL-URL:https://stevegoodie.com
X-WR-CALDESC:Events for Steve Goodie
REFRESH-INTERVAL;VALUE=DURATION:PT1H
X-Robots-Tag:noindex
X-PUBLISHED-TTL:PT1H
BEGIN:VTIMEZONE
TZID:UTC
BEGIN:STANDARD
TZOFFSETFROM:+0000
TZOFFSETTO:+0000
TZNAME:UTC
DTSTART:20250101T000000
END:STANDARD
END:VTIMEZONE
BEGIN:VEVENT
DTSTART;TZID=UTC:20260422T190000
DTEND;TZID=UTC:20260422T200000
DTSTAMP:20260421T083253
CREATED:20260124T162552Z
LAST-MODIFIED:20260328T222950Z
UID:2257-1776884400-1776888000@stevegoodie.com
SUMMARY:A Night Of Funny Songs And Improv!
DESCRIPTION:Steve and his very talented improv pals present a bunch of silly nonsense that often rhymes! And there will be Tacos! And FREE PARKING!\n \n\n  \n 
URL:https://stevegoodie.com/event/a-night-of-funny-songs/
LOCATION:Nacho Daddy\, 800 19th Av S\, Nashville\, TN\, 37203\, United States
CATEGORIES:Comedy/Music Theater
END:VEVENT
END:VCALENDAR